<VRTDataset rasterXSize="7991" rasterYSize="8101">
  <SRS dataAxisToSRSAxisMapping="1,2">PROJCS["WGS 84 / UTM zone 48N",GEOGCS["WGS 84",DATUM["WGS_1984",SPHEROID["WGS 84",6378137,298.257223563,AUTHORITY["EPSG","7030"]],AUTHORITY["EPSG","6326"]],PRIMEM["Greenwich",0,AUTHORITY["EPSG","8901"]],UNIT["degree",0.0174532925199433,AUTHORITY["EPSG","9122"]],AUTHORITY["EPSG","4326"]],PROJECTION["Transverse_Mercator"],PARAMETER["latitude_of_origin",0],PARAMETER["central_meridian",105],PARAMETER["scale_factor",0.9996],PARAMETER["false_easting",500000],PARAMETER["false_northing",0],UNIT["metre",1,AUTHORITY["EPSG","9001"]],AXIS["Easting",EAST],AXIS["Northing",NORTH],AUTHORITY["EPSG","32648"]]</SRS>
  <GeoTransform>  2.6368500000000000e+05,  3.0000000000000000e+01,  0.0000000000000000e+00,  5.6922150000000000e+06,  0.0000000000000000e+00, -3.0000000000000000e+01</GeoTransform>
  <VRTRasterBand dataType="UInt16" band="1">
    <NoDataValue>0</NoDataValue>
    <ComplexSource resampling="nearest">
      <SourceFilename relativeToVRT="0">C:/Users/Femke Vianen/OneDrive - Universitetet i Oslo/Thesis/GIS/Landsat/LC08_L2SP_134025_20140816_20200911_02_T1_SR_B3.TIF</SourceFilename>
      <SourceBand>1</SourceBand>
      <SourceProperties RasterXSize="7991" RasterYSize="8101" DataType="UInt16" BlockXSize="256" BlockYSize="256" />
      <SrcRect xOff="0" yOff="0" xSize="7991" ySize="8101" />
      <DstRect xOff="0" yOff="0" xSize="7991" ySize="8101" />
      <NODATA>0</NODATA>
    </ComplexSource>
  </VRTRasterBand>
  <VRTRasterBand dataType="UInt16" band="2">
    <NoDataValue>0</NoDataValue>
    <ComplexSource resampling="nearest">
      <SourceFilename relativeToVRT="0">C:/Users/Femke Vianen/OneDrive - Universitetet i Oslo/Thesis/GIS/Landsat/LC08_L2SP_134025_20140816_20200911_02_T1_SR_B4.TIF</SourceFilename>
      <SourceBand>1</SourceBand>
      <SourceProperties RasterXSize="7991" RasterYSize="8101" DataType="UInt16" BlockXSize="256" BlockYSize="256" />
      <SrcRect xOff="0" yOff="0" xSize="7991" ySize="8101" />
      <DstRect xOff="0" yOff="0" xSize="7991" ySize="8101" />
      <NODATA>0</NODATA>
    </ComplexSource>
  </VRTRasterBand>
  <VRTRasterBand dataType="UInt16" band="3">
    <NoDataValue>0</NoDataValue>
    <ComplexSource resampling="nearest">
      <SourceFilename relativeToVRT="0">C:/Users/Femke Vianen/OneDrive - Universitetet i Oslo/Thesis/GIS/Landsat/LC08_L2SP_134025_20140816_20200911_02_T1_SR_B5.TIF</SourceFilename>
      <SourceBand>1</SourceBand>
      <SourceProperties RasterXSize="7991" RasterYSize="8101" DataType="UInt16" BlockXSize="256" BlockYSize="256" />
      <SrcRect xOff="0" yOff="0" xSize="7991" ySize="8101" />
      <DstRect xOff="0" yOff="0" xSize="7991" ySize="8101" />
      <NODATA>0</NODATA>
    </ComplexSource>
  </VRTRasterBand>
</VRTDataset>
