DSET ^DQCUM.grd
TITLE AFES
UNDEF -9.99E+33
OPTIONS BIG_ENDIAN
XDEF 240 LINEAR 0.0000 1.50000
YDEF 120 LEVELS -88.8565480537 -87.3753006588 -85.8853056995 -84.3933342951 -82.9006131815 -81.4075292853 -79.9142426490 -78.4208313306 -76.9273379054 -75.4337875587 -73.9401961377 -72.4465741110 -70.9529286709 -69.4592649222 -67.9655865883 -66.4718964484 -64.9781966195 -63.4844887423 -61.9907741083 -60.4970537478 -59.0033284932 -57.5095990239 -56.0158659006 -54.5221295898 -53.0283904827 -51.5346489105 -50.0409051549 -48.5471594574 -47.0534120261 -45.5596630418 -44.0659126616 -42.5721610235 -41.0784082489 -39.5846544451 -38.0908997072 -36.5971441204 -35.1033877607 -33.6096306965 -32.1158729895 -30.6221146955 -29.1283558653 -27.6345965452 -26.1408367776 -24.6470766016 -23.1533160530 -21.6595551651 -20.1657939688 -18.6720324929 -17.1782707645 -15.6845088089 -14.1907466502 -12.6969843110 -11.2032218130 -9.7094591769 -8.2156964227 -6.7219335697 -5.2281706365 -3.7344076414 -2.2406446024 -0.7468815370 0.7468815370 2.2406446024 3.7344076414 5.2281706365 6.7219335697 8.2156964227 9.7094591769 11.2032218130 12.6969843110 14.1907466502 15.6845088089 17.1782707645 18.6720324929 20.1657939688 21.6595551651 23.1533160530 24.6470766016 26.1408367776 27.6345965452 29.1283558653 30.6221146955 32.1158729895 33.6096306965 35.1033877607 36.5971441204 38.0908997072 39.5846544451 41.0784082489 42.5721610235 44.0659126616 45.5596630418 47.0534120261 48.5471594574 50.0409051549 51.5346489105 53.0283904827 54.5221295898 56.0158659006 57.5095990239 59.0033284932 60.4970537478 61.9907741083 63.4844887423 64.9781966195 66.4718964484 67.9655865883 69.4592649222 70.9529286709 72.4465741110 73.9401961377 75.4337875587 76.9273379054 78.4208313306 79.9142426490 81.4075292853 82.9006131815 84.3933342951 85.8853056995 87.3753006588 88.8565480537
ZDEF 56 LEVELS 0.9945852869 0.9833536333 0.9712737317 0.9582815122 0.9443080637 0.9292792679 0.9131154045 0.8957307277 0.8770330089 0.8569230453 0.8352941303 0.8120314824 0.7870116303 0.7610848380 0.7351579846 0.7092310634 0.6833040667 0.6573769856 0.6314498097 0.6055225267 0.5795951224 0.5536675796 0.5277398779 0.5018119928 0.4758838941 0.4499555450 0.4240268996 0.3980978999 0.3721684717 0.3462385188 0.3203079136 0.2943764837 0.2684439897 0.2425100899 0.2165742784 0.1906357733 0.1646932987 0.1387446195 0.1127854305 0.0868062224 0.0642788516 0.0475550031 0.0351395664 0.0259226025 0.0190801158 0.0140003883 0.0102292923 0.0074296914 0.0053512997 0.0038083056 0.0026627577 0.0018122267 0.0011806308 0.0007113727 0.0003619388 0.0000915674
TDEF 240 LINEAR 06:00Z01JUL0004 6hr
VARS 1
DQCUM 56 0 cumulus moistning 1/s
ENDVARS
