100.0000000000
0.0000000000
0.0000000000
-100.0000000000
260652.6956011691
8123900.0866041956
